BEGIN:VCALENDAR
VERSION:2.0
PRODID:-//School on Wheels - ECPv6.15.20//NONSGML v1.0//EN
CALSCALE:GREGORIAN
METHOD:PUBLISH
X-ORIGINAL-URL:https://schoolonwheels.org
X-WR-CALDESC:Events for School on Wheels
REFRESH-INTERVAL;VALUE=DURATION:PT1H
X-Robots-Tag:noindex
X-PUBLISHED-TTL:PT1H
BEGIN:VTIMEZONE
TZID:America/Los_Angeles
BEGIN:DAYLIGHT
TZOFFSETFROM:-0800
TZOFFSETTO:-0700
TZNAME:PDT
DTSTART:20180311T100000
END:DAYLIGHT
BEGIN:STANDARD
TZOFFSETFROM:-0700
TZOFFSETTO:-0800
TZNAME:PST
DTSTART:20181104T090000
END:STANDARD
BEGIN:DAYLIGHT
TZOFFSETFROM:-0800
TZOFFSETTO:-0700
TZNAME:PDT
DTSTART:20190310T100000
END:DAYLIGHT
BEGIN:STANDARD
TZOFFSETFROM:-0700
TZOFFSETTO:-0800
TZNAME:PST
DTSTART:20191103T090000
END:STANDARD
BEGIN:DAYLIGHT
TZOFFSETFROM:-0800
TZOFFSETTO:-0700
TZNAME:PDT
DTSTART:20200308T100000
END:DAYLIGHT
BEGIN:STANDARD
TZOFFSETFROM:-0700
TZOFFSETTO:-0800
TZNAME:PST
DTSTART:20201101T090000
END:STANDARD
END:VTIMEZONE
BEGIN:VEVENT
DTSTART;TZID=America/Los_Angeles:20190606T173000
DTEND;TZID=America/Los_Angeles:20190606T203000
DTSTAMP:20260419T060501
CREATED:20181108T005124Z
LAST-MODIFIED:20181108T005124Z
UID:12789-1559842200-1559853000@schoolonwheels.org
SUMMARY:Introductory Training – Pomona
DESCRIPTION:Please Note: You must complete a Tutor Orientation before you can attend this Follow-up training. \nRSVP Below. \nDate: Thursday\, June 6th\, 2019\nTime: 5:30 pm – 8:30 pm\nAddress: Pomona Unified Family Resource Center\n605 N. Park Ave.\nPomona\, CA 91768 \nThere is plenty of onsite parking in the rear of the building. Please enter through the backdoor. \nWe will be providing Live Scan service during this orientation. If you want to take advantage of this\, please make sure to bring a valid photo ID and $35 in cash or you can use a credit card for an extra $2 dollar fee (the Live Scan service charges this fee\, not School on Wheels). \nLoading…
URL:https://schoolonwheels.org/event/introductory-training-pomona-06-06-2019/
CATEGORIES:Introductory Tutor Training
END:VEVENT
END:VCALENDAR