BEGIN:VCALENDAR
VERSION:2.0
PRODID:-//School on Wheels - ECPv6.15.20//NONSGML v1.0//EN
CALSCALE:GREGORIAN
METHOD:PUBLISH
X-ORIGINAL-URL:https://schoolonwheels.org
X-WR-CALDESC:Events for School on Wheels
REFRESH-INTERVAL;VALUE=DURATION:PT1H
X-Robots-Tag:noindex
X-PUBLISHED-TTL:PT1H
BEGIN:VTIMEZONE
TZID:America/Los_Angeles
BEGIN:DAYLIGHT
TZOFFSETFROM:-0800
TZOFFSETTO:-0700
TZNAME:PDT
DTSTART:20180311T100000
END:DAYLIGHT
BEGIN:STANDARD
TZOFFSETFROM:-0700
TZOFFSETTO:-0800
TZNAME:PST
DTSTART:20181104T090000
END:STANDARD
BEGIN:DAYLIGHT
TZOFFSETFROM:-0800
TZOFFSETTO:-0700
TZNAME:PDT
DTSTART:20190310T100000
END:DAYLIGHT
BEGIN:STANDARD
TZOFFSETFROM:-0700
TZOFFSETTO:-0800
TZNAME:PST
DTSTART:20191103T090000
END:STANDARD
BEGIN:DAYLIGHT
TZOFFSETFROM:-0800
TZOFFSETTO:-0700
TZNAME:PDT
DTSTART:20200308T100000
END:DAYLIGHT
BEGIN:STANDARD
TZOFFSETFROM:-0700
TZOFFSETTO:-0800
TZNAME:PST
DTSTART:20201101T090000
END:STANDARD
END:VTIMEZONE
BEGIN:VEVENT
DTSTART;TZID=America/Los_Angeles:20190713T110000
DTEND;TZID=America/Los_Angeles:20190713T140000
DTSTAMP:20260419T072415
CREATED:20190524T210052Z
LAST-MODIFIED:20190524T210052Z
UID:14559-1563015600-1563026400@schoolonwheels.org
SUMMARY:Introductory Training – Ventura
DESCRIPTION:Please Note: You must complete a Tutor Orientation before you can attend this Follow-up training. \nRSVP Below. \nDate: Saturday\, July 13\, 2019\nTime: 11:00 AM – 2:00 PM\nAddress: Catholic Charities Ventura Community Services Center\n303 N. Ventura Ave Unit D.\nVentura CA 93001\nParking: There is plenty of parking available. \nWe will be providing Live Scan service during this orientation. If you want to take advantage of this\, please make sure to bring a valid photo ID and $30 (the Live Scan service charges this fee\, not School on Wheels. They accept cash or check only). \nLoading…
URL:https://schoolonwheels.org/event/introductory-training-ventura-07-13-2019/
CATEGORIES:Introductory Tutor Training
END:VEVENT
END:VCALENDAR