BEGIN:VCALENDAR
VERSION:2.0
PRODID:-//School on Wheels - ECPv6.15.20//NONSGML v1.0//EN
CALSCALE:GREGORIAN
METHOD:PUBLISH
X-ORIGINAL-URL:https://schoolonwheels.org
X-WR-CALDESC:Events for School on Wheels
REFRESH-INTERVAL;VALUE=DURATION:PT1H
X-Robots-Tag:noindex
X-PUBLISHED-TTL:PT1H
BEGIN:VTIMEZONE
TZID:America/Los_Angeles
BEGIN:DAYLIGHT
TZOFFSETFROM:-0800
TZOFFSETTO:-0700
TZNAME:PDT
DTSTART:20180311T100000
END:DAYLIGHT
BEGIN:STANDARD
TZOFFSETFROM:-0700
TZOFFSETTO:-0800
TZNAME:PST
DTSTART:20181104T090000
END:STANDARD
BEGIN:DAYLIGHT
TZOFFSETFROM:-0800
TZOFFSETTO:-0700
TZNAME:PDT
DTSTART:20190310T100000
END:DAYLIGHT
BEGIN:STANDARD
TZOFFSETFROM:-0700
TZOFFSETTO:-0800
TZNAME:PST
DTSTART:20191103T090000
END:STANDARD
BEGIN:DAYLIGHT
TZOFFSETFROM:-0800
TZOFFSETTO:-0700
TZNAME:PDT
DTSTART:20200308T100000
END:DAYLIGHT
BEGIN:STANDARD
TZOFFSETFROM:-0700
TZOFFSETTO:-0800
TZNAME:PST
DTSTART:20201101T090000
END:STANDARD
END:VTIMEZONE
BEGIN:VEVENT
DTSTART;TZID=America/Los_Angeles:20190725T173000
DTEND;TZID=America/Los_Angeles:20190725T203000
DTSTAMP:20260423T080052
CREATED:20190628T193826Z
LAST-MODIFIED:20190628T193826Z
UID:15209-1564075800-1564086600@schoolonwheels.org
SUMMARY:Introductory Training – North Hollywood
DESCRIPTION:Please Note: You must complete our online tutor orientation before you can attend this training. \nRSVP Below. \nDate: Thursday\, July 25\, 2019\nTime: 5:30 PM – 8:30 PM\nAddress: LA Family Housing – Winn Community Room\n7843 Lankershim Blvd.\nNorth Hollywood\, CA 91605\nParking: There is street parking on Lankershim and in the surrounding neighborhood. Please allow yourself a few extra minutes to find a spot so we can get started on time. \nWe will be providing Live Scan service during this orientation. If you want to take advantage of this\, please make sure to bring a valid photo ID and $35 (the Live Scan service charges this fee\, not School on Wheels. No personal checks please). \nLoading…
URL:https://schoolonwheels.org/event/introductory-training-north-hollywood-07-25-2019/
CATEGORIES:Introductory Tutor Training
END:VEVENT
END:VCALENDAR