BEGIN:VCALENDAR
VERSION:2.0
PRODID:-//School on Wheels - ECPv6.15.20//NONSGML v1.0//EN
CALSCALE:GREGORIAN
METHOD:PUBLISH
X-ORIGINAL-URL:https://schoolonwheels.org
X-WR-CALDESC:Events for School on Wheels
REFRESH-INTERVAL;VALUE=DURATION:PT1H
X-Robots-Tag:noindex
X-PUBLISHED-TTL:PT1H
BEGIN:VTIMEZONE
TZID:America/Los_Angeles
BEGIN:DAYLIGHT
TZOFFSETFROM:-0800
TZOFFSETTO:-0700
TZNAME:PDT
DTSTART:20180311T100000
END:DAYLIGHT
BEGIN:STANDARD
TZOFFSETFROM:-0700
TZOFFSETTO:-0800
TZNAME:PST
DTSTART:20181104T090000
END:STANDARD
BEGIN:DAYLIGHT
TZOFFSETFROM:-0800
TZOFFSETTO:-0700
TZNAME:PDT
DTSTART:20190310T100000
END:DAYLIGHT
BEGIN:STANDARD
TZOFFSETFROM:-0700
TZOFFSETTO:-0800
TZNAME:PST
DTSTART:20191103T090000
END:STANDARD
BEGIN:DAYLIGHT
TZOFFSETFROM:-0800
TZOFFSETTO:-0700
TZNAME:PDT
DTSTART:20200308T100000
END:DAYLIGHT
BEGIN:STANDARD
TZOFFSETFROM:-0700
TZOFFSETTO:-0800
TZNAME:PST
DTSTART:20201101T090000
END:STANDARD
END:VTIMEZONE
BEGIN:VEVENT
DTSTART;TZID=America/Los_Angeles:20190813T173000
DTEND;TZID=America/Los_Angeles:20190813T203000
DTSTAMP:20260421T065717
CREATED:20190531T181050Z
LAST-MODIFIED:20190531T181050Z
UID:14691-1565717400-1565728200@schoolonwheels.org
SUMMARY:Introductory Training – Los Angeles (Glendale)
DESCRIPTION:This training has reached capacity. If you have not already signed up\, please RSVP to a different date. \nDate: Tuesday\, August 13th\, 2019\nTime: 5:30 PM – 8:30 PM\nLocation: Goodwill Community Enrichment Center at Fletcher Square\n3150 San Fernando Road\nLos Angeles\, CA 90065\nParking: There is ample parking available. \nWe will be providing Live Scan service during this orientation. If you want to take advantage of this\, please make sure to bring a valid government-issued photo ID and $35 (the Live Scan service charges this fee\, not School on Wheels).
URL:https://schoolonwheels.org/event/introductory-training-los-angeles-glendale-08-13-2019/
CATEGORIES:Introductory Tutor Training
END:VEVENT
END:VCALENDAR