BEGIN:VCALENDAR
VERSION:2.0
PRODID:-//School on Wheels - ECPv6.15.20//NONSGML v1.0//EN
CALSCALE:GREGORIAN
METHOD:PUBLISH
X-WR-CALNAME:School on Wheels
X-ORIGINAL-URL:https://schoolonwheels.org
X-WR-CALDESC:Events for School on Wheels
REFRESH-INTERVAL;VALUE=DURATION:PT1H
X-Robots-Tag:noindex
X-PUBLISHED-TTL:PT1H
BEGIN:VTIMEZONE
TZID:America/Los_Angeles
BEGIN:DAYLIGHT
TZOFFSETFROM:-0800
TZOFFSETTO:-0700
TZNAME:PDT
DTSTART:20180311T100000
END:DAYLIGHT
BEGIN:STANDARD
TZOFFSETFROM:-0700
TZOFFSETTO:-0800
TZNAME:PST
DTSTART:20181104T090000
END:STANDARD
BEGIN:DAYLIGHT
TZOFFSETFROM:-0800
TZOFFSETTO:-0700
TZNAME:PDT
DTSTART:20190310T100000
END:DAYLIGHT
BEGIN:STANDARD
TZOFFSETFROM:-0700
TZOFFSETTO:-0800
TZNAME:PST
DTSTART:20191103T090000
END:STANDARD
BEGIN:DAYLIGHT
TZOFFSETFROM:-0800
TZOFFSETTO:-0700
TZNAME:PDT
DTSTART:20200308T100000
END:DAYLIGHT
BEGIN:STANDARD
TZOFFSETFROM:-0700
TZOFFSETTO:-0800
TZNAME:PST
DTSTART:20201101T090000
END:STANDARD
END:VTIMEZONE
BEGIN:VEVENT
DTSTART;TZID=America/Los_Angeles:20190817T103000
DTEND;TZID=America/Los_Angeles:20190817T120000
DTSTAMP:20260419T074558
CREATED:20190805T173320Z
LAST-MODIFIED:20190805T173320Z
UID:15582-1566037800-1566043200@schoolonwheels.org
SUMMARY:School on Wheels Community Outreach Training
DESCRIPTION:Do you ever wish you could tell more people about School on Wheels? Well here’s your chance! If you are a current volunteer with School on Wheels we have a great training to offer. (If you are not a current volunteer you can start the process on our website today.) \nWe are constantly looking for opportunities to grow our support for students experiencing homelessness. One of the many ways we do that is by integrating ourselves into community events and outreach opportunities. At these events\, we are able to promote our program to other social service providers\, potential donors\, interested volunteers\, and families experiencing homelessness. \nWe are looking to cultivate a team of volunteers who can participate in these event opportunities and help us share the awesome\, completely free resources that School on Wheels provides! \nPlease join us on Saturday\, August 17th\, from 10:30 AM – 12:00 PM for an Outreach Volunteer Training! The training will include coffee\, a light snack\, and information on the in’s and out’s of telling others about School on Wheels. We look forward to meeting with you for a fun\, interactive training that will help grow our mission of serving students experiencing homelessness.
URL:https://schoolonwheels.org/event/school-on-wheels-community-outreach-training/
CATEGORIES:Workshops
ATTACH;FMTTYPE=:
END:VEVENT
BEGIN:VEVENT
DTSTART;TZID=America/Los_Angeles:20190817T103000
DTEND;TZID=America/Los_Angeles:20190817T133000
DTSTAMP:20260419T074558
CREATED:20190531T181652Z
LAST-MODIFIED:20190531T181652Z
UID:14693-1566037800-1566048600@schoolonwheels.org
SUMMARY:Introductory Training- Riverside
DESCRIPTION:Please Note: You must complete a Tutor Orientation before you can attend this Follow-up training. \nRSVP Below. \nDate: Saturday\, August 17th\, 2019\nTime: 10:30 am – 1:30 pm\nAdress: Glen Avon Library (community room)\n9244 Galena St\, Riverside\, CA 92509  \nThere is plenty of onsite parking available \nWe will be providing Live Scan service during this orientation. If you want to take advantage of this\, please make sure to bring a valid photo ID and $35 in cash or your can use a credit card for an extra $2 dollar fee (the Live Scan service charges this fee\, not School on Wheels). \nLoading…
URL:https://schoolonwheels.org/event/introductory-training-riverside-08-17-2019/
CATEGORIES:Introductory Tutor Training
END:VEVENT
END:VCALENDAR