BEGIN:VCALENDAR
VERSION:2.0
PRODID:-//School on Wheels - ECPv6.15.20//NONSGML v1.0//EN
CALSCALE:GREGORIAN
METHOD:PUBLISH
X-WR-CALNAME:School on Wheels
X-ORIGINAL-URL:https://schoolonwheels.org
X-WR-CALDESC:Events for School on Wheels
REFRESH-INTERVAL;VALUE=DURATION:PT1H
X-Robots-Tag:noindex
X-PUBLISHED-TTL:PT1H
BEGIN:VTIMEZONE
TZID:America/Los_Angeles
BEGIN:DAYLIGHT
TZOFFSETFROM:-0800
TZOFFSETTO:-0700
TZNAME:PDT
DTSTART:20190310T100000
END:DAYLIGHT
BEGIN:STANDARD
TZOFFSETFROM:-0700
TZOFFSETTO:-0800
TZNAME:PST
DTSTART:20191103T090000
END:STANDARD
BEGIN:DAYLIGHT
TZOFFSETFROM:-0800
TZOFFSETTO:-0700
TZNAME:PDT
DTSTART:20200308T100000
END:DAYLIGHT
BEGIN:STANDARD
TZOFFSETFROM:-0700
TZOFFSETTO:-0800
TZNAME:PST
DTSTART:20201101T090000
END:STANDARD
BEGIN:DAYLIGHT
TZOFFSETFROM:-0800
TZOFFSETTO:-0700
TZNAME:PDT
DTSTART:20210314T100000
END:DAYLIGHT
BEGIN:STANDARD
TZOFFSETFROM:-0700
TZOFFSETTO:-0800
TZNAME:PST
DTSTART:20211107T090000
END:STANDARD
END:VTIMEZONE
BEGIN:VEVENT
DTSTART;TZID=America/Los_Angeles:20200122T173000
DTEND;TZID=America/Los_Angeles:20200122T203000
DTSTAMP:20260423T073257
CREATED:20191210T010458Z
LAST-MODIFIED:20191210T010458Z
UID:16839-1579714200-1579725000@schoolonwheels.org
SUMMARY:Introductory Training – Los Angeles (Glendale)
DESCRIPTION:Please Note: You must complete our online tutor orientation before you can attend this follow-up training. \nRSVP Below. \nDate: Wednesday\, January 22nd\, 2020\nTime: 5:30 PM – 8:30 PM\nLocation: Goodwill Community Enrichment Center at Fletcher Square\n3150 San Fernando Road\nLos Angeles\, CA 90065\nParking: There is ample parking available. \nWe will be providing Live Scan service during this orientation. If you want to take advantage of this\, please make sure to bring a valid government-issued photo ID and $35 (the Live Scan service charges this fee\, not School on Wheels). \nLoading…
URL:https://schoolonwheels.org/event/introductory-training-los-angeles-glendale-01-22-2020/
CATEGORIES:Introductory Tutor Training
END:VEVENT
END:VCALENDAR