BEGIN:VCALENDAR
VERSION:2.0
PRODID:-//School on Wheels - ECPv6.15.20//NONSGML v1.0//EN
CALSCALE:GREGORIAN
METHOD:PUBLISH
X-WR-CALNAME:School on Wheels
X-ORIGINAL-URL:https://schoolonwheels.org
X-WR-CALDESC:Events for School on Wheels
REFRESH-INTERVAL;VALUE=DURATION:PT1H
X-Robots-Tag:noindex
X-PUBLISHED-TTL:PT1H
BEGIN:VTIMEZONE
TZID:America/Los_Angeles
BEGIN:DAYLIGHT
TZOFFSETFROM:-0800
TZOFFSETTO:-0700
TZNAME:PDT
DTSTART:20190310T100000
END:DAYLIGHT
BEGIN:STANDARD
TZOFFSETFROM:-0700
TZOFFSETTO:-0800
TZNAME:PST
DTSTART:20191103T090000
END:STANDARD
BEGIN:DAYLIGHT
TZOFFSETFROM:-0800
TZOFFSETTO:-0700
TZNAME:PDT
DTSTART:20200308T100000
END:DAYLIGHT
BEGIN:STANDARD
TZOFFSETFROM:-0700
TZOFFSETTO:-0800
TZNAME:PST
DTSTART:20201101T090000
END:STANDARD
BEGIN:DAYLIGHT
TZOFFSETFROM:-0800
TZOFFSETTO:-0700
TZNAME:PDT
DTSTART:20210314T100000
END:DAYLIGHT
BEGIN:STANDARD
TZOFFSETFROM:-0700
TZOFFSETTO:-0800
TZNAME:PST
DTSTART:20211107T090000
END:STANDARD
END:VTIMEZONE
BEGIN:VEVENT
DTSTART;TZID=America/Los_Angeles:20200204T120000
DTEND;TZID=America/Los_Angeles:20200204T130000
DTSTAMP:20260423T090835
CREATED:20200103T220848Z
LAST-MODIFIED:20200103T220848Z
UID:17037-1580817600-1580821200@schoolonwheels.org
SUMMARY:Webinar: Engaging Your Student With Digital Learning Programs
DESCRIPTION:This webinar is open to both active tutors as well as tutors completing our application process. However\, it does not substitute for the mandatory in-person tutor training required of new applicants. Please refer to our event calendar to register for a tutor training. \nTuesday\, February 4th\, 2020\n12:00-1:00 PM \nRegister Here \nSchool on Wheels students overwhelmingly lack regular access to information and communication technology. This not only contributes to their learning gaps\, but can actually leave them without key 21st Century skills that many of their peers possess. This webinar will walk you through the ways you can help your student(s) bridge the Digital Divide with School on Wheels resources. We’ll go over how to use online programs to help your student learn math\, reading\, computer science\, and more; how to implement our Digital Literacy curriculum; and extra special online learning opportunities for School on Wheels students. \n About the Presenter:  \nEmma Gerch started with School on Wheels just over 1 year ago. As the Online Tutoring Coordinator\, she connects students who need extra help or live outside of the SOW service area with tutors via video and audio chat. She also develops programming to build our students’ technology skills\, and makes sure to stay on top of the latest trends in education technology. \n \n 
URL:https://schoolonwheels.org/event/webinar-engaging-your-student-with-digital-learning-programs-2/
CATEGORIES:Workshops
ATTACH;FMTTYPE=:
END:VEVENT
END:VCALENDAR