BEGIN:VCALENDAR
VERSION:2.0
PRODID:-//School on Wheels - ECPv6.15.20//NONSGML v1.0//EN
CALSCALE:GREGORIAN
METHOD:PUBLISH
X-ORIGINAL-URL:https://schoolonwheels.org
X-WR-CALDESC:Events for School on Wheels
REFRESH-INTERVAL;VALUE=DURATION:PT1H
X-Robots-Tag:noindex
X-PUBLISHED-TTL:PT1H
BEGIN:VTIMEZONE
TZID:America/Los_Angeles
BEGIN:DAYLIGHT
TZOFFSETFROM:-0800
TZOFFSETTO:-0700
TZNAME:PDT
DTSTART:20190310T100000
END:DAYLIGHT
BEGIN:STANDARD
TZOFFSETFROM:-0700
TZOFFSETTO:-0800
TZNAME:PST
DTSTART:20191103T090000
END:STANDARD
BEGIN:DAYLIGHT
TZOFFSETFROM:-0800
TZOFFSETTO:-0700
TZNAME:PDT
DTSTART:20200308T100000
END:DAYLIGHT
BEGIN:STANDARD
TZOFFSETFROM:-0700
TZOFFSETTO:-0800
TZNAME:PST
DTSTART:20201101T090000
END:STANDARD
BEGIN:DAYLIGHT
TZOFFSETFROM:-0800
TZOFFSETTO:-0700
TZNAME:PDT
DTSTART:20210314T100000
END:DAYLIGHT
BEGIN:STANDARD
TZOFFSETFROM:-0700
TZOFFSETTO:-0800
TZNAME:PST
DTSTART:20211107T090000
END:STANDARD
END:VTIMEZONE
BEGIN:VEVENT
DTSTART;TZID=America/Los_Angeles:20200304T173000
DTEND;TZID=America/Los_Angeles:20200304T203000
DTSTAMP:20260423T103431
CREATED:20191209T194355Z
LAST-MODIFIED:20191209T194355Z
UID:16793-1583343000-1583353800@schoolonwheels.org
SUMMARY:Introductory Training – Pomona
DESCRIPTION:Please Note: You must complete our online tutor orientation before you can attend this follow-up training. \nRSVP Below. \nDate: Wednesday\, March 4th\, 2020\nTime: 5:30 pm – 8:30 pm\nAddress: Pomona Unified Family Resource Center\n605 N. Park Ave.\nPomona\, CA 91768 \nThere is plenty of onsite parking in the rear of the building. The training will be held in the bungalow at the back of the parking lot. \nWe will be providing Live Scan service during this orientation. If you want to take advantage of this\, please make sure to bring a valid photo ID and $35 in cash or you can use a credit card for an extra $2 dollar fee (the Live Scan service charges this fee\, not School on Wheels). \nLoading…
URL:https://schoolonwheels.org/event/introductory-training-pomona-03-04-2020/
CATEGORIES:Introductory Tutor Training
END:VEVENT
END:VCALENDAR