BEGIN:VCALENDAR
VERSION:2.0
PRODID:-//School on Wheels - ECPv6.15.20//NONSGML v1.0//EN
CALSCALE:GREGORIAN
METHOD:PUBLISH
X-WR-CALNAME:School on Wheels
X-ORIGINAL-URL:https://schoolonwheels.org
X-WR-CALDESC:Events for School on Wheels
REFRESH-INTERVAL;VALUE=DURATION:PT1H
X-Robots-Tag:noindex
X-PUBLISHED-TTL:PT1H
BEGIN:VTIMEZONE
TZID:America/Los_Angeles
BEGIN:DAYLIGHT
TZOFFSETFROM:-0800
TZOFFSETTO:-0700
TZNAME:PDT
DTSTART:20190310T100000
END:DAYLIGHT
BEGIN:STANDARD
TZOFFSETFROM:-0700
TZOFFSETTO:-0800
TZNAME:PST
DTSTART:20191103T090000
END:STANDARD
BEGIN:DAYLIGHT
TZOFFSETFROM:-0800
TZOFFSETTO:-0700
TZNAME:PDT
DTSTART:20200308T100000
END:DAYLIGHT
BEGIN:STANDARD
TZOFFSETFROM:-0700
TZOFFSETTO:-0800
TZNAME:PST
DTSTART:20201101T090000
END:STANDARD
BEGIN:DAYLIGHT
TZOFFSETFROM:-0800
TZOFFSETTO:-0700
TZNAME:PDT
DTSTART:20210314T100000
END:DAYLIGHT
BEGIN:STANDARD
TZOFFSETFROM:-0700
TZOFFSETTO:-0800
TZNAME:PST
DTSTART:20211107T090000
END:STANDARD
END:VTIMEZONE
BEGIN:VEVENT
DTSTART;TZID=America/Los_Angeles:20201017T133000
DTEND;TZID=America/Los_Angeles:20201017T153000
DTSTAMP:20260423T133833
CREATED:20201012T194847Z
LAST-MODIFIED:20201012T194847Z
UID:19941-1602941400-1602948600@schoolonwheels.org
SUMMARY:Introductory Tutor Training (Virtual)
DESCRIPTION:Please Note: You must complete our online tutor orientation before you can attend this follow-up training. \nRSVP below. \nDate: Saturday\, October 17\, 2020\nTime: 1:30 pm – 3:30 pm\nMeeting link: We will send you a confirmation email with the Zoom link for the training after you register.  \nPlease come prepared to participate in breakout groups and discussion. We ask that you have your webcam on for the entirety of the training and recommend using headphones if you have them. \nLoading…
URL:https://schoolonwheels.org/event/introductory-tutor-training-virtual-10-17-2020/
CATEGORIES:Introductory Tutor Training
END:VEVENT
END:VCALENDAR