BEGIN:VCALENDAR
VERSION:2.0
PRODID:-//School on Wheels - ECPv6.15.20//NONSGML v1.0//EN
CALSCALE:GREGORIAN
METHOD:PUBLISH
X-WR-CALNAME:School on Wheels
X-ORIGINAL-URL:https://schoolonwheels.org
X-WR-CALDESC:Events for School on Wheels
REFRESH-INTERVAL;VALUE=DURATION:PT1H
X-Robots-Tag:noindex
X-PUBLISHED-TTL:PT1H
BEGIN:VTIMEZONE
TZID:America/Los_Angeles
BEGIN:DAYLIGHT
TZOFFSETFROM:-0800
TZOFFSETTO:-0700
TZNAME:PDT
DTSTART:20190310T100000
END:DAYLIGHT
BEGIN:STANDARD
TZOFFSETFROM:-0700
TZOFFSETTO:-0800
TZNAME:PST
DTSTART:20191103T090000
END:STANDARD
BEGIN:DAYLIGHT
TZOFFSETFROM:-0800
TZOFFSETTO:-0700
TZNAME:PDT
DTSTART:20200308T100000
END:DAYLIGHT
BEGIN:STANDARD
TZOFFSETFROM:-0700
TZOFFSETTO:-0800
TZNAME:PST
DTSTART:20201101T090000
END:STANDARD
BEGIN:DAYLIGHT
TZOFFSETFROM:-0800
TZOFFSETTO:-0700
TZNAME:PDT
DTSTART:20210314T100000
END:DAYLIGHT
BEGIN:STANDARD
TZOFFSETFROM:-0700
TZOFFSETTO:-0800
TZNAME:PST
DTSTART:20211107T090000
END:STANDARD
END:VTIMEZONE
BEGIN:VEVENT
DTSTART;VALUE=DATE:20201026
DTEND;VALUE=DATE:20201101
DTSTAMP:20260423T133828
CREATED:20200916T190258Z
LAST-MODIFIED:20200916T190258Z
UID:19746-1603670400-1604188799@schoolonwheels.org
SUMMARY:Ghoul on Wheels Costume Contest
DESCRIPTION:Submit your costume photo via the submission form OR posting it on Instagram and tagging it with #ghoulonwheels (public accounts only). All photos will be displayed on our website and winners will be decided by the School on Wheels staff. \nPRIZE CATEGORIES \nPrizes will be awarded in the following categories: \n\nBest kid\nBest teen\nBest adult\nBest pet\nBest family\nBest team (team photos do not require all your team members to be physically in one place\, but you must have coordinated costumes and submit your photo as one entry.)\n\nPRIZES \n\nSwag bag of School on Wheels goodies including T-shirt\, hat\, stickers\, bookmarks\, and more.\n$50 Amazon Gift card (for individual prizes only – not teams).
URL:https://schoolonwheels.org/event/ghoul-on-wheels-costume-contest/
CATEGORIES:Events
ATTACH;FMTTYPE=:
END:VEVENT
END:VCALENDAR