BEGIN:VCALENDAR
VERSION:2.0
PRODID:-//School on Wheels - ECPv6.15.20//NONSGML v1.0//EN
CALSCALE:GREGORIAN
METHOD:PUBLISH
X-WR-CALNAME:School on Wheels
X-ORIGINAL-URL:https://schoolonwheels.org
X-WR-CALDESC:Events for School on Wheels
REFRESH-INTERVAL;VALUE=DURATION:PT1H
X-Robots-Tag:noindex
X-PUBLISHED-TTL:PT1H
BEGIN:VTIMEZONE
TZID:America/Los_Angeles
BEGIN:DAYLIGHT
TZOFFSETFROM:-0800
TZOFFSETTO:-0700
TZNAME:PDT
DTSTART:20190310T100000
END:DAYLIGHT
BEGIN:STANDARD
TZOFFSETFROM:-0700
TZOFFSETTO:-0800
TZNAME:PST
DTSTART:20191103T090000
END:STANDARD
BEGIN:DAYLIGHT
TZOFFSETFROM:-0800
TZOFFSETTO:-0700
TZNAME:PDT
DTSTART:20200308T100000
END:DAYLIGHT
BEGIN:STANDARD
TZOFFSETFROM:-0700
TZOFFSETTO:-0800
TZNAME:PST
DTSTART:20201101T090000
END:STANDARD
BEGIN:DAYLIGHT
TZOFFSETFROM:-0800
TZOFFSETTO:-0700
TZNAME:PDT
DTSTART:20210314T100000
END:DAYLIGHT
BEGIN:STANDARD
TZOFFSETFROM:-0700
TZOFFSETTO:-0800
TZNAME:PST
DTSTART:20211107T090000
END:STANDARD
END:VTIMEZONE
BEGIN:VEVENT
DTSTART;TZID=America/Los_Angeles:20201110T180000
DTEND;TZID=America/Los_Angeles:20201110T200000
DTSTAMP:20260423T164832
CREATED:20201012T213229Z
LAST-MODIFIED:20201012T213229Z
UID:19963-1605031200-1605038400@schoolonwheels.org
SUMMARY:Introductory Tutor Training (AT CAPACITY)
DESCRIPTION:This training session has reached capacity. Please register for a different date. \nDate: Tuesday\, November 10\, 2020\nTime: 6:00 pm – 8:00 pm\nMeeting link: We will send you a confirmation email with the Zoom link for the training after you register.  \nPlease come prepared to participate in breakout groups and discussion. We ask that you have your webcam on for the entirety of the session and recommend using headphones if you have them.
URL:https://schoolonwheels.org/event/introductory-tutor-training-virtual-11-10-2020/
CATEGORIES:Introductory Tutor Training
END:VEVENT
END:VCALENDAR