BEGIN:VCALENDAR
VERSION:2.0
PRODID:-//School on Wheels - ECPv6.15.20//NONSGML v1.0//EN
CALSCALE:GREGORIAN
METHOD:PUBLISH
X-WR-CALNAME:School on Wheels
X-ORIGINAL-URL:https://schoolonwheels.org
X-WR-CALDESC:Events for School on Wheels
REFRESH-INTERVAL;VALUE=DURATION:PT1H
X-Robots-Tag:noindex
X-PUBLISHED-TTL:PT1H
BEGIN:VTIMEZONE
TZID:America/Los_Angeles
BEGIN:DAYLIGHT
TZOFFSETFROM:-0800
TZOFFSETTO:-0700
TZNAME:PDT
DTSTART:20230312T100000
END:DAYLIGHT
BEGIN:STANDARD
TZOFFSETFROM:-0700
TZOFFSETTO:-0800
TZNAME:PST
DTSTART:20231105T090000
END:STANDARD
BEGIN:DAYLIGHT
TZOFFSETFROM:-0800
TZOFFSETTO:-0700
TZNAME:PDT
DTSTART:20240310T100000
END:DAYLIGHT
BEGIN:STANDARD
TZOFFSETFROM:-0700
TZOFFSETTO:-0800
TZNAME:PST
DTSTART:20241103T090000
END:STANDARD
BEGIN:DAYLIGHT
TZOFFSETFROM:-0800
TZOFFSETTO:-0700
TZNAME:PDT
DTSTART:20250309T100000
END:DAYLIGHT
BEGIN:STANDARD
TZOFFSETFROM:-0700
TZOFFSETTO:-0800
TZNAME:PST
DTSTART:20251102T090000
END:STANDARD
END:VTIMEZONE
BEGIN:VEVENT
DTSTART;TZID=America/Los_Angeles:20241106T180000
DTEND;TZID=America/Los_Angeles:20241106T193000
DTSTAMP:20260419T071143
CREATED:20240812T214546Z
LAST-MODIFIED:20241015T204222Z
UID:29855-1730916000-1730921400@schoolonwheels.org
SUMMARY:Full - Advanced Tutor Training (Virtual)
DESCRIPTION:UPDATE: Session full – no longer accepting sign-ups for this date. \nPlease Note: This training is for tutors who have completed 4 or more tutoring sessions with a School on Wheels student. Do not sign up if you are a current tutoring applicant.  \nWhat is Advanced Training? This training is a collaborative space for volunteer tutors to discuss tips & tricks for enhancing communication\, advocating on behalf of your student\, and increasing student engagement and motivation. This is a chance to share your successes and challenges while listening to the experiences of other tutors. You’ll leave with inspiration and new ideas to bring to your tutoring sessions! \nWho will be there? Each Advanced Training is facilitated by a School on Wheels program developer and volunteer coordinator to ensure you have support and a wealth of resources. You’ll also be joining the training with other volunteer tutors who might have a similar experience as you! \nHow do I join? Please sign up using the form below.  \nCome prepared to participate in breakout groups and discussions. We ask that you have your webcam on for the entirety of the session and recommend using headphones if you have them. \nLoading…
URL:https://schoolonwheels.org/event/advanced-tutor-training-virtual-55-nov62024/
LOCATION:Online
CATEGORIES:Advanced Training
END:VEVENT
BEGIN:VEVENT
DTSTART;TZID=America/Los_Angeles:20241116T093000
DTEND;TZID=America/Los_Angeles:20241116T110000
DTSTAMP:20260419T071143
CREATED:20240812T214717Z
LAST-MODIFIED:20241107T181755Z
UID:29856-1731749400-1731754800@schoolonwheels.org
SUMMARY:FULL - Advanced Tutor Training (Virtual)
DESCRIPTION:UPDATE: Session full – no longer accepting sign-ups for this date. \nPlease Note: This training is for tutors who have completed 4 or more tutoring sessions with a School on Wheels student. Do not sign up if you are a current tutoring applicant.  \nWhat is Advanced Training? This training is a collaborative space for volunteer tutors to discuss tips & tricks for enhancing communication\, advocating on behalf of your student\, and increasing student engagement and motivation. This is a chance to share your successes and challenges while listening to the experiences of other tutors. You’ll leave with inspiration and new ideas to bring to your tutoring sessions! \nWho will be there? Each Advanced Training is facilitated by a School on Wheels program developer and volunteer coordinator to ensure you have support and a wealth of resources. You’ll also be joining the training with other volunteer tutors who might have a similar experience as you! \nHow do I join? Please sign up using the form below.  \nCome prepared to participate in breakout groups and discussions. We ask that you have your webcam on for the entirety of the session and recommend using headphones if you have them.
URL:https://schoolonwheels.org/event/advanced-tutor-training-virtual-55-nov162024/
LOCATION:Online
CATEGORIES:Advanced Training
END:VEVENT
BEGIN:VEVENT
DTSTART;TZID=America/Los_Angeles:20241119T180000
DTEND;TZID=America/Los_Angeles:20241119T193000
DTSTAMP:20260419T071143
CREATED:20240812T214820Z
LAST-MODIFIED:20241107T181607Z
UID:29857-1732039200-1732044600@schoolonwheels.org
SUMMARY:FULL - Advanced Tutor Training (Virtual)
DESCRIPTION:UPDATE: Session full – no longer accepting sign-ups for this date. \nPlease Note: This training is for tutors who have completed 4 or more tutoring sessions with a School on Wheels student. Do not sign up if you are a current tutoring applicant.  \nWhat is Advanced Training? This training is a collaborative space for volunteer tutors to discuss tips & tricks for enhancing communication\, advocating on behalf of your student\, and increasing student engagement and motivation. This is a chance to share your successes and challenges while listening to the experiences of other tutors. You’ll leave with inspiration and new ideas to bring to your tutoring sessions! \nWho will be there? Each Advanced Training is facilitated by a School on Wheels program developer and volunteer coordinator to ensure you have support and a wealth of resources. You’ll also be joining the training with other volunteer tutors who might have a similar experience as you! \nHow do I join? Please sign up using the form below.  \nCome prepared to participate in breakout groups and discussions. We ask that you have your webcam on for the entirety of the session and recommend using headphones if you have them. \nLoading…
URL:https://schoolonwheels.org/event/advanced-tutor-training-virtual-56-nov192024/
LOCATION:Online
CATEGORIES:Advanced Training
END:VEVENT
END:VCALENDAR