BEGIN:VCALENDAR
VERSION:2.0
PRODID:-//School on Wheels - ECPv6.15.20//NONSGML v1.0//EN
CALSCALE:GREGORIAN
METHOD:PUBLISH
X-ORIGINAL-URL:https://schoolonwheels.org
X-WR-CALDESC:Events for School on Wheels
REFRESH-INTERVAL;VALUE=DURATION:PT1H
X-Robots-Tag:noindex
X-PUBLISHED-TTL:PT1H
BEGIN:VTIMEZONE
TZID:America/Los_Angeles
BEGIN:DAYLIGHT
TZOFFSETFROM:-0800
TZOFFSETTO:-0700
TZNAME:PDT
DTSTART:20220313T100000
END:DAYLIGHT
BEGIN:STANDARD
TZOFFSETFROM:-0700
TZOFFSETTO:-0800
TZNAME:PST
DTSTART:20221106T090000
END:STANDARD
BEGIN:DAYLIGHT
TZOFFSETFROM:-0800
TZOFFSETTO:-0700
TZNAME:PDT
DTSTART:20230312T100000
END:DAYLIGHT
BEGIN:STANDARD
TZOFFSETFROM:-0700
TZOFFSETTO:-0800
TZNAME:PST
DTSTART:20231105T090000
END:STANDARD
BEGIN:DAYLIGHT
TZOFFSETFROM:-0800
TZOFFSETTO:-0700
TZNAME:PDT
DTSTART:20240310T100000
END:DAYLIGHT
BEGIN:STANDARD
TZOFFSETFROM:-0700
TZOFFSETTO:-0800
TZNAME:PST
DTSTART:20241103T090000
END:STANDARD
END:VTIMEZONE
BEGIN:VEVENT
DTSTART;TZID=America/Los_Angeles:20230302T180000
DTEND;TZID=America/Los_Angeles:20230302T200000
DTSTAMP:20260421T223729
CREATED:20221114T162920Z
LAST-MODIFIED:20230228T013107Z
UID:28197-1677780000-1677787200@schoolonwheels.org
SUMMARY:Introductory Tutor Training (Virtual)
DESCRIPTION:Please Note: You must complete an application and watch our online tutor orientation before you can attend this follow-up training. \nPlease come prepared to participate in breakout groups and discussion. We ask that you have your webcam on for the entirety of the session and recommend using headphones if you have them. \nWe will send you a confirmation email with the Zoom link for the training after you register. Make sure to check your spam folder. \n﻿Loading…
URL:https://schoolonwheels.org/event/introductory-tutor-training-virtual-15/
LOCATION:Online
CATEGORIES:Introductory Tutor Training
END:VEVENT
BEGIN:VEVENT
DTSTART;TZID=America/Los_Angeles:20230304T100000
DTEND;TZID=America/Los_Angeles:20230304T120000
DTSTAMP:20260421T223729
CREATED:20221114T162800Z
LAST-MODIFIED:20230222T015526Z
UID:28196-1677924000-1677931200@schoolonwheels.org
SUMMARY:Introductory Tutor Training (Virtual)
DESCRIPTION:Please Note: You must complete an application and watch our online tutor orientation before you can attend this follow-up training. \nPlease come prepared to participate in breakout groups and discussion. We ask that you have your webcam on for the entirety of the session and recommend using headphones if you have them. \nWe will send you a confirmation email with the Zoom link for the training after you register. Make sure to check your spam folder. \n﻿Loading…
URL:https://schoolonwheels.org/event/introductory-tutor-training-virtual-14/
LOCATION:Online
CATEGORIES:Introductory Tutor Training
END:VEVENT
BEGIN:VEVENT
DTSTART;TZID=America/Los_Angeles:20230307T180000
DTEND;TZID=America/Los_Angeles:20230307T200000
DTSTAMP:20260421T223729
CREATED:20221114T162339Z
LAST-MODIFIED:20230302T214623Z
UID:28195-1678212000-1678219200@schoolonwheels.org
SUMMARY:Introductory Tutor Training (Virtual) - CLOSED
DESCRIPTION:Please Note: You must complete an application and watch our online tutor orientation before you can attend this follow-up training. \nPlease come prepared to participate in breakout groups and discussion. We ask that you have your webcam on for the entirety of the session and recommend using headphones if you have them. \nWe will send you a confirmation email with the Zoom link for the training after you register. Make sure to check your spam folder.
URL:https://schoolonwheels.org/event/introductory-tutor-training-virtual-13/
LOCATION:Online
CATEGORIES:Introductory Tutor Training
END:VEVENT
BEGIN:VEVENT
DTSTART;TZID=America/Los_Angeles:20230314T180000
DTEND;TZID=America/Los_Angeles:20230314T200000
DTSTAMP:20260421T223729
CREATED:20221114T162222Z
LAST-MODIFIED:20221114T162222Z
UID:28194-1678816800-1678824000@schoolonwheels.org
SUMMARY:Introductory Tutor Training (Virtual)
DESCRIPTION:Please Note: You must complete an application and watch our online tutor orientation before you can attend this follow-up training. \nPlease come prepared to participate in breakout groups and discussion. We ask that you have your webcam on for the entirety of the session and recommend using headphones if you have them. \nWe will send you a confirmation email with the Zoom link for the training after you register. Make sure to check your spam folder. \n﻿Loading…
URL:https://schoolonwheels.org/event/introductory-tutor-training-virtual-12/
LOCATION:Online
CATEGORIES:Introductory Tutor Training
END:VEVENT
BEGIN:VEVENT
DTSTART;TZID=America/Los_Angeles:20230323T180000
DTEND;TZID=America/Los_Angeles:20230323T200000
DTSTAMP:20260421T223729
CREATED:20221114T162054Z
LAST-MODIFIED:20221114T162054Z
UID:28193-1679594400-1679601600@schoolonwheels.org
SUMMARY:Introductory Tutor Training (Virtual)
DESCRIPTION:Please Note: You must complete an application and watch our online tutor orientation before you can attend this follow-up training. \nPlease come prepared to participate in breakout groups and discussion. We ask that you have your webcam on for the entirety of the session and recommend using headphones if you have them. \nWe will send you a confirmation email with the Zoom link for the training after you register. Make sure to check your spam folder. \n﻿Loading…
URL:https://schoolonwheels.org/event/introductory-tutor-training-virtual-11/
LOCATION:Online
CATEGORIES:Introductory Tutor Training
END:VEVENT
BEGIN:VEVENT
DTSTART;TZID=America/Los_Angeles:20230328T180000
DTEND;TZID=America/Los_Angeles:20230328T200000
DTSTAMP:20260421T223729
CREATED:20221114T161928Z
LAST-MODIFIED:20221114T161928Z
UID:28192-1680026400-1680033600@schoolonwheels.org
SUMMARY:Introductory Tutor Training (Virtual)
DESCRIPTION:Please Note: You must complete an application and watch our online tutor orientation before you can attend this follow-up training. \nPlease come prepared to participate in breakout groups and discussion. We ask that you have your webcam on for the entirety of the session and recommend using headphones if you have them. \nWe will send you a confirmation email with the Zoom link for the training after you register. Make sure to check your spam folder. \n﻿Loading…
URL:https://schoolonwheels.org/event/introductory-tutor-training-virtual-10/
LOCATION:Online
CATEGORIES:Introductory Tutor Training
END:VEVENT
END:VCALENDAR