BEGIN:VCALENDAR
VERSION:2.0
PRODID:-//School on Wheels - ECPv6.15.20//NONSGML v1.0//EN
CALSCALE:GREGORIAN
METHOD:PUBLISH
X-WR-CALNAME:School on Wheels
X-ORIGINAL-URL:https://schoolonwheels.org
X-WR-CALDESC:Events for School on Wheels
REFRESH-INTERVAL;VALUE=DURATION:PT1H
X-Robots-Tag:noindex
X-PUBLISHED-TTL:PT1H
BEGIN:VTIMEZONE
TZID:America/Los_Angeles
BEGIN:DAYLIGHT
TZOFFSETFROM:-0800
TZOFFSETTO:-0700
TZNAME:PDT
DTSTART:20220313T100000
END:DAYLIGHT
BEGIN:STANDARD
TZOFFSETFROM:-0700
TZOFFSETTO:-0800
TZNAME:PST
DTSTART:20221106T090000
END:STANDARD
BEGIN:DAYLIGHT
TZOFFSETFROM:-0800
TZOFFSETTO:-0700
TZNAME:PDT
DTSTART:20230312T100000
END:DAYLIGHT
BEGIN:STANDARD
TZOFFSETFROM:-0700
TZOFFSETTO:-0800
TZNAME:PST
DTSTART:20231105T090000
END:STANDARD
BEGIN:DAYLIGHT
TZOFFSETFROM:-0800
TZOFFSETTO:-0700
TZNAME:PDT
DTSTART:20240310T100000
END:DAYLIGHT
BEGIN:STANDARD
TZOFFSETFROM:-0700
TZOFFSETTO:-0800
TZNAME:PST
DTSTART:20241103T090000
END:STANDARD
END:VTIMEZONE
BEGIN:VEVENT
DTSTART;TZID=America/Los_Angeles:20230501T180000
DTEND;TZID=America/Los_Angeles:20230501T200000
DTSTAMP:20260421T210830
CREATED:20230201T213936Z
LAST-MODIFIED:20230201T213936Z
UID:28362-1682964000-1682971200@schoolonwheels.org
SUMMARY:Introductory Tutor Training (Virtual)
DESCRIPTION:Please Note: You must complete an application and watch our online tutor orientation before you can attend this follow-up training. \nPlease come prepared to participate in breakout groups and discussion. We ask that you have your webcam on for the entirety of the session and recommend using headphones if you have them. \nWe will send you a confirmation email with the Zoom link for the training after you register. Make sure to check your spam folder. \n﻿Loading…
URL:https://schoolonwheels.org/event/introductory-tutor-training-virtual-35/
LOCATION:Online
CATEGORIES:Introductory Tutor Training
END:VEVENT
BEGIN:VEVENT
DTSTART;TZID=America/Los_Angeles:20230504T180000
DTEND;TZID=America/Los_Angeles:20230504T200000
DTSTAMP:20260421T210830
CREATED:20230201T214023Z
LAST-MODIFIED:20230504T184348Z
UID:28363-1683223200-1683230400@schoolonwheels.org
SUMMARY:Introductory Tutor Training (Canceled)
DESCRIPTION:Please Note: You must complete an application and watch our online tutor orientation before you can attend this follow-up training. \nPlease come prepared to participate in breakout groups and discussion. We ask that you have your webcam on for the entirety of the session and recommend using headphones if you have them. \nWe will send you a confirmation email with the Zoom link for the training after you register. Make sure to check your spam folder.
URL:https://schoolonwheels.org/event/introductory-tutor-training-virtual-36/
LOCATION:Online
CATEGORIES:Introductory Tutor Training
END:VEVENT
BEGIN:VEVENT
DTSTART;TZID=America/Los_Angeles:20230509T180000
DTEND;TZID=America/Los_Angeles:20230509T200000
DTSTAMP:20260421T210830
CREATED:20230201T214115Z
LAST-MODIFIED:20230201T214115Z
UID:28364-1683655200-1683662400@schoolonwheels.org
SUMMARY:Introductory Tutor Training (Virtual)
DESCRIPTION:Please Note: You must complete an application and watch our online tutor orientation before you can attend this follow-up training. \nPlease come prepared to participate in breakout groups and discussion. We ask that you have your webcam on for the entirety of the session and recommend using headphones if you have them. \nWe will send you a confirmation email with the Zoom link for the training after you register. Make sure to check your spam folder. \n﻿Loading…
URL:https://schoolonwheels.org/event/introductory-tutor-training-virtual-37/
LOCATION:Online
CATEGORIES:Introductory Tutor Training
END:VEVENT
BEGIN:VEVENT
DTSTART;TZID=America/Los_Angeles:20230516T180000
DTEND;TZID=America/Los_Angeles:20230516T200000
DTSTAMP:20260421T210830
CREATED:20230201T214204Z
LAST-MODIFIED:20230201T214204Z
UID:28365-1684260000-1684267200@schoolonwheels.org
SUMMARY:Introductory Tutor Training (Virtual)
DESCRIPTION:Please Note: You must complete an application and watch our online tutor orientation before you can attend this follow-up training. \nPlease come prepared to participate in breakout groups and discussion. We ask that you have your webcam on for the entirety of the session and recommend using headphones if you have them. \nWe will send you a confirmation email with the Zoom link for the training after you register. Make sure to check your spam folder. \n﻿Loading…
URL:https://schoolonwheels.org/event/introductory-tutor-training-virtual-38/
LOCATION:Online
CATEGORIES:Introductory Tutor Training
END:VEVENT
BEGIN:VEVENT
DTSTART;TZID=America/Los_Angeles:20230520T100000
DTEND;TZID=America/Los_Angeles:20230520T120000
DTSTAMP:20260421T210830
CREATED:20230201T214303Z
LAST-MODIFIED:20230519T204538Z
UID:28366-1684576800-1684584000@schoolonwheels.org
SUMMARY:Introductory Tutor Training
DESCRIPTION:Please Note: You must complete an application and watch our online tutor orientation before you can attend this follow-up training. \n*This training location has been changed from in-person to a Zoom Meeting (5/18/2023) \nPlease come prepared to participate in breakout groups and discussion. We ask that you have your webcam on for the entirety of the session and recommend using headphones if you have them. \nWe will send you a confirmation email with the invitation link for the training after you register. Make sure to check your spam folder. \n﻿Loading…
URL:https://schoolonwheels.org/event/introductory-tutor-training-virtual-39/
LOCATION:Online
CATEGORIES:Introductory Tutor Training
END:VEVENT
BEGIN:VEVENT
DTSTART;TZID=America/Los_Angeles:20230524T180000
DTEND;TZID=America/Los_Angeles:20230524T200000
DTSTAMP:20260421T210830
CREATED:20230201T214344Z
LAST-MODIFIED:20230201T214344Z
UID:28367-1684951200-1684958400@schoolonwheels.org
SUMMARY:Introductory Tutor Training (Virtual)
DESCRIPTION:Please Note: You must complete an application and watch our online tutor orientation before you can attend this follow-up training. \nPlease come prepared to participate in breakout groups and discussion. We ask that you have your webcam on for the entirety of the session and recommend using headphones if you have them. \nWe will send you a confirmation email with the Zoom link for the training after you register. Make sure to check your spam folder. \n﻿Loading…
URL:https://schoolonwheels.org/event/introductory-tutor-training-virtual-40/
LOCATION:Online
CATEGORIES:Introductory Tutor Training
END:VEVENT
END:VCALENDAR