BEGIN:VCALENDAR
VERSION:2.0
PRODID:-//School on Wheels - ECPv6.15.20//NONSGML v1.0//EN
CALSCALE:GREGORIAN
METHOD:PUBLISH
X-WR-CALNAME:School on Wheels
X-ORIGINAL-URL:https://schoolonwheels.org
X-WR-CALDESC:Events for School on Wheels
REFRESH-INTERVAL;VALUE=DURATION:PT1H
X-Robots-Tag:noindex
X-PUBLISHED-TTL:PT1H
BEGIN:VTIMEZONE
TZID:America/Los_Angeles
BEGIN:DAYLIGHT
TZOFFSETFROM:-0800
TZOFFSETTO:-0700
TZNAME:PDT
DTSTART:20240310T100000
END:DAYLIGHT
BEGIN:STANDARD
TZOFFSETFROM:-0700
TZOFFSETTO:-0800
TZNAME:PST
DTSTART:20241103T090000
END:STANDARD
BEGIN:DAYLIGHT
TZOFFSETFROM:-0800
TZOFFSETTO:-0700
TZNAME:PDT
DTSTART:20250309T100000
END:DAYLIGHT
BEGIN:STANDARD
TZOFFSETFROM:-0700
TZOFFSETTO:-0800
TZNAME:PST
DTSTART:20251102T090000
END:STANDARD
BEGIN:DAYLIGHT
TZOFFSETFROM:-0800
TZOFFSETTO:-0700
TZNAME:PDT
DTSTART:20260308T100000
END:DAYLIGHT
BEGIN:STANDARD
TZOFFSETFROM:-0700
TZOFFSETTO:-0800
TZNAME:PST
DTSTART:20261101T090000
END:STANDARD
END:VTIMEZONE
BEGIN:VEVENT
DTSTART;TZID=America/Los_Angeles:20250220T180000
DTEND;TZID=America/Los_Angeles:20250220T200000
DTSTAMP:20260423T094201
CREATED:20241206T211510Z
LAST-MODIFIED:20241206T211510Z
UID:30425-1740074400-1740081600@schoolonwheels.org
SUMMARY:Introductory Tutor Training (Virtual)
DESCRIPTION:Please Note: You must complete an application and watch our online tutor orientation before you can attend this follow-up training. \nPlease come prepared to take notes and participate in breakout group discussions. We ask that you have your webcam on for the entirety of the session and recommend using headphones if you have them. \nWe will send you a confirmation email with the Zoom link for the training after you register. Make sure to check your spam folder. If you do not receive the email invitation\, please reach out to training@schoolonwheels.org for assistance. \nLoading…
URL:https://schoolonwheels.org/event/introductory-tutor-training-virtual-108-022025/
CATEGORIES:Introductory Tutor Training
END:VEVENT
END:VCALENDAR