BEGIN:VCALENDAR
VERSION:2.0
PRODID:-//School on Wheels - ECPv6.15.20//NONSGML v1.0//EN
CALSCALE:GREGORIAN
METHOD:PUBLISH
X-ORIGINAL-URL:https://schoolonwheels.org
X-WR-CALDESC:Events for School on Wheels
REFRESH-INTERVAL;VALUE=DURATION:PT1H
X-Robots-Tag:noindex
X-PUBLISHED-TTL:PT1H
BEGIN:VTIMEZONE
TZID:America/Los_Angeles
BEGIN:DAYLIGHT
TZOFFSETFROM:-0800
TZOFFSETTO:-0700
TZNAME:PDT
DTSTART:20220313T100000
END:DAYLIGHT
BEGIN:STANDARD
TZOFFSETFROM:-0700
TZOFFSETTO:-0800
TZNAME:PST
DTSTART:20221106T090000
END:STANDARD
BEGIN:DAYLIGHT
TZOFFSETFROM:-0800
TZOFFSETTO:-0700
TZNAME:PDT
DTSTART:20230312T100000
END:DAYLIGHT
BEGIN:STANDARD
TZOFFSETFROM:-0700
TZOFFSETTO:-0800
TZNAME:PST
DTSTART:20231105T090000
END:STANDARD
BEGIN:DAYLIGHT
TZOFFSETFROM:-0800
TZOFFSETTO:-0700
TZNAME:PDT
DTSTART:20240310T100000
END:DAYLIGHT
BEGIN:STANDARD
TZOFFSETFROM:-0700
TZOFFSETTO:-0800
TZNAME:PST
DTSTART:20241103T090000
END:STANDARD
END:VTIMEZONE
BEGIN:VEVENT
DTSTART;TZID=America/Los_Angeles:20230720T120000
DTEND;TZID=America/Los_Angeles:20230720T130000
DTSTAMP:20260419T053412
CREATED:20230501T175321Z
LAST-MODIFIED:20230620T223637Z
UID:28793-1689854400-1689858000@schoolonwheels.org
SUMMARY:Literacy Workshop: Word Knowledge & the Science of Reading
DESCRIPTION:Please join us to learn and discuss strategies to build your student’s word knowledge! During our virtual literacy workshops\, we’ll share ideas and tips based on the science of reading and specifically selected for School on Wheels tutoring. \nWhat should I expect? This workshop is scheduled for one hour\, including 30 minutes of content and up to 30 minutes of questions and discussion. You will be marked as attending after the first 30 minutes. \nHow do I join? Please use the form below to sign up. After registering\, you will receive a confirmation email with the Zoom link for the training. (If you don’t see it\, please check your spam folder.) \n﻿﻿﻿﻿﻿﻿Loading…
URL:https://schoolonwheels.org/event/literacy-workshop-word-knowledge-the-science-of-reading-july/
LOCATION:Online
CATEGORIES:Literacy Program Training
END:VEVENT
END:VCALENDAR