BEGIN:VCALENDAR
VERSION:2.0
PRODID:-//School on Wheels - ECPv6.15.20//NONSGML v1.0//EN
CALSCALE:GREGORIAN
METHOD:PUBLISH
X-ORIGINAL-URL:https://schoolonwheels.org
X-WR-CALDESC:Events for School on Wheels
REFRESH-INTERVAL;VALUE=DURATION:PT1H
X-Robots-Tag:noindex
X-PUBLISHED-TTL:PT1H
BEGIN:VTIMEZONE
TZID:America/Los_Angeles
BEGIN:DAYLIGHT
TZOFFSETFROM:-0800
TZOFFSETTO:-0700
TZNAME:PDT
DTSTART:20190310T100000
END:DAYLIGHT
BEGIN:STANDARD
TZOFFSETFROM:-0700
TZOFFSETTO:-0800
TZNAME:PST
DTSTART:20191103T090000
END:STANDARD
BEGIN:DAYLIGHT
TZOFFSETFROM:-0800
TZOFFSETTO:-0700
TZNAME:PDT
DTSTART:20200308T100000
END:DAYLIGHT
BEGIN:STANDARD
TZOFFSETFROM:-0700
TZOFFSETTO:-0800
TZNAME:PST
DTSTART:20201101T090000
END:STANDARD
BEGIN:DAYLIGHT
TZOFFSETFROM:-0800
TZOFFSETTO:-0700
TZNAME:PDT
DTSTART:20210314T100000
END:DAYLIGHT
BEGIN:STANDARD
TZOFFSETFROM:-0700
TZOFFSETTO:-0800
TZNAME:PST
DTSTART:20211107T090000
END:STANDARD
END:VTIMEZONE
BEGIN:VEVENT
DTSTART;TZID=America/Los_Angeles:20200302T173000
DTEND;TZID=America/Los_Angeles:20200302T203000
DTSTAMP:20260423T091254
CREATED:20191204T013927Z
LAST-MODIFIED:20191204T013927Z
UID:16696-1583170200-1583181000@schoolonwheels.org
SUMMARY:Introductory Training – Orange County (Santa Ana)
DESCRIPTION:Please Note: You must complete our online tutor orientation before you can attend this training. \nRSVP Below. \nDate: Monday\, March 2nd\, 2020\nTime: 5:30 PM – 8:30 PM\nAddress: The Village\n1505 E. 17th St.\nSanta Ana\, CA 92705\nParking: Parking is in the lot behind the building. We will be meeting in the Conference Center (enter on 18th St.). \nWe will be providing Live Scan service during this orientation. If you want to take advantage of this\, please make sure to bring a valid photo ID and $31 (The Live Scan service charges this fee). You can pay with cash or check only. Credit cards will not be accepted. \nLoading…
URL:https://schoolonwheels.org/event/introductory-training-orange-county-santa-ana-03-02-2020/
CATEGORIES:Introductory Tutor Training
END:VEVENT
BEGIN:VEVENT
DTSTART;TZID=America/Los_Angeles:20200304T173000
DTEND;TZID=America/Los_Angeles:20200304T203000
DTSTAMP:20260423T091254
CREATED:20191209T194355Z
LAST-MODIFIED:20191209T194355Z
UID:16793-1583343000-1583353800@schoolonwheels.org
SUMMARY:Introductory Training – Pomona
DESCRIPTION:Please Note: You must complete our online tutor orientation before you can attend this follow-up training. \nRSVP Below. \nDate: Wednesday\, March 4th\, 2020\nTime: 5:30 pm – 8:30 pm\nAddress: Pomona Unified Family Resource Center\n605 N. Park Ave.\nPomona\, CA 91768 \nThere is plenty of onsite parking in the rear of the building. The training will be held in the bungalow at the back of the parking lot. \nWe will be providing Live Scan service during this orientation. If you want to take advantage of this\, please make sure to bring a valid photo ID and $35 in cash or you can use a credit card for an extra $2 dollar fee (the Live Scan service charges this fee\, not School on Wheels). \nLoading…
URL:https://schoolonwheels.org/event/introductory-training-pomona-03-04-2020/
CATEGORIES:Introductory Tutor Training
END:VEVENT
BEGIN:VEVENT
DTSTART;TZID=America/Los_Angeles:20200307T100000
DTEND;TZID=America/Los_Angeles:20200307T130000
DTSTAMP:20260423T091254
CREATED:20191210T012526Z
LAST-MODIFIED:20191210T012526Z
UID:16855-1583575200-1583586000@schoolonwheels.org
SUMMARY:(FULL) Advanced Training - Los Angeles (Glendale)
DESCRIPTION:This training has reached capacity. If you have not already signed up\, please select another date. \nDate: Saturday\, March 7th\, 2020\nTime: 10:00 am – 1:00 pm\nAddress: Goodwill Community Enrichment Center at Fletcher Square\n3150 San Fernando Road\nLos Angeles\, CA 90065\nParking: There is ample parking.
URL:https://schoolonwheels.org/event/advanced-training-los-angeles-glendale-03-07-2020/
CATEGORIES:Advanced Training
END:VEVENT
BEGIN:VEVENT
DTSTART;TZID=America/Los_Angeles:20200311T173000
DTEND;TZID=America/Los_Angeles:20200311T203000
DTSTAMP:20260423T091254
CREATED:20191210T005311Z
LAST-MODIFIED:20191210T005311Z
UID:16831-1583947800-1583958600@schoolonwheels.org
SUMMARY:Introductory Training – North Hollywood
DESCRIPTION:Please Note: You must complete our online tutor orientation before you can attend this training. \nRSVP Below. \nDate: Wednesday\, March 11th\, 2020\nTime: 5:30 PM – 8:30 PM\nAddress: LA Family Housing – Winn Community Room\n7843 Lankershim Blvd.\nNorth Hollywood\, CA 91605\nParking: There is ample parking available. \nWe will be providing Live Scan service during this orientation. If you want to take advantage of this\, please make sure to bring a valid photo ID and $35 (the Live Scan service charges this fee\, not School on Wheels. No personal checks please). \nLoading…
URL:https://schoolonwheels.org/event/introductory-training-north-hollywood-03-11-2020/
CATEGORIES:Introductory Tutor Training
END:VEVENT
BEGIN:VEVENT
DTSTART;TZID=America/Los_Angeles:20200311T173000
DTEND;TZID=America/Los_Angeles:20200311T203000
DTSTAMP:20260423T091254
CREATED:20191220T202210Z
LAST-MODIFIED:20191220T202210Z
UID:16976-1583947800-1583958600@schoolonwheels.org
SUMMARY:Advanced Training - Los Alamitos
DESCRIPTION:Please Note: You must attend the Introductory Tutor Training before you can attend this follow-up training. \nRSVP Below. \nDate: Wednesday\, March 11\, 2020\nTime: 5:30 pm – 8:30 pm\nAddress: CASA Youth Shelter\n10911 Reagan St.\, Los Alamitos\, CA 90720\nParking: There is plenty of street parking on both Reagan St. and Florista St. If you park in a spot with a time restriction you will be allowed to leave the training to move your car!  \nLoading…
URL:https://schoolonwheels.org/event/advanced-training-los-alamitos-03-11-2020/
CATEGORIES:Advanced Training
END:VEVENT
BEGIN:VEVENT
DTSTART;TZID=America/Los_Angeles:20200311T180000
DTEND;TZID=America/Los_Angeles:20200311T203000
DTSTAMP:20260423T091254
CREATED:20200220T225314Z
LAST-MODIFIED:20200220T225314Z
UID:17303-1583949600-1583958600@schoolonwheels.org
SUMMARY:Advanced Training - Santa Barbara
DESCRIPTION:Please Note: You must attend the Introductory Tutor Training before you can attend this follow-up training. \nRSVP Below. \nDate: Wednesday\, March 11\, 2020\nTime: 6:00 pm – 8:30 pm\nAddress: LogicMonitor\n820 State St.\, Floor 5\, Santa Barbara\, CA 93101\nParking: If parking is hard to find on State St.\, the Lobero garage is the closest lot. The large Paseo Nuevo garage is also nearby.  \nLoading…
URL:https://schoolonwheels.org/event/advanced-training-santa-barbara-03-11-2020/
CATEGORIES:Advanced Training
END:VEVENT
END:VCALENDAR