BEGIN:VCALENDAR
VERSION:2.0
PRODID:-//School on Wheels - ECPv6.15.20//NONSGML v1.0//EN
CALSCALE:GREGORIAN
METHOD:PUBLISH
X-WR-CALNAME:School on Wheels
X-ORIGINAL-URL:https://schoolonwheels.org
X-WR-CALDESC:Events for School on Wheels
REFRESH-INTERVAL;VALUE=DURATION:PT1H
X-Robots-Tag:noindex
X-PUBLISHED-TTL:PT1H
BEGIN:VTIMEZONE
TZID:America/Los_Angeles
BEGIN:DAYLIGHT
TZOFFSETFROM:-0800
TZOFFSETTO:-0700
TZNAME:PDT
DTSTART:20190310T100000
END:DAYLIGHT
BEGIN:STANDARD
TZOFFSETFROM:-0700
TZOFFSETTO:-0800
TZNAME:PST
DTSTART:20191103T090000
END:STANDARD
BEGIN:DAYLIGHT
TZOFFSETFROM:-0800
TZOFFSETTO:-0700
TZNAME:PDT
DTSTART:20200308T100000
END:DAYLIGHT
BEGIN:STANDARD
TZOFFSETFROM:-0700
TZOFFSETTO:-0800
TZNAME:PST
DTSTART:20201101T090000
END:STANDARD
BEGIN:DAYLIGHT
TZOFFSETFROM:-0800
TZOFFSETTO:-0700
TZNAME:PDT
DTSTART:20210314T100000
END:DAYLIGHT
BEGIN:STANDARD
TZOFFSETFROM:-0700
TZOFFSETTO:-0800
TZNAME:PST
DTSTART:20211107T090000
END:STANDARD
END:VTIMEZONE
BEGIN:VEVENT
DTSTART;TZID=America/Los_Angeles:20201201T180000
DTEND;TZID=America/Los_Angeles:20201201T200000
DTSTAMP:20260425T100028
CREATED:20201119T222721Z
LAST-MODIFIED:20201119T222721Z
UID:20343-1606845600-1606852800@schoolonwheels.org
SUMMARY:Introductory Tutor Training (Virtual)
DESCRIPTION:Please Note: You must complete our online tutor orientation before you can attend this follow-up training. \nRSVP below. \nDate: Tuesday\, December 1st\, 2020\nTime: 6:00 pm – 8:00 pm\nMeeting link: We will send you a confirmation email with the Zoom link for the training after you register.  \nPlease come prepared to participate in breakout groups and discussion. We ask that you have your webcam on for the entirety of the session and recommend using headphones if you have them. \nLoading…
URL:https://schoolonwheels.org/event/introductory-tutor-training-virtual-12-1-2020/
CATEGORIES:Introductory Tutor Training
END:VEVENT
BEGIN:VEVENT
DTSTART;TZID=America/Los_Angeles:20201205T110000
DTEND;TZID=America/Los_Angeles:20201205T130000
DTSTAMP:20260425T100028
CREATED:20201119T222958Z
LAST-MODIFIED:20201119T222958Z
UID:20345-1607166000-1607173200@schoolonwheels.org
SUMMARY:Introductory Tutor Training (Virtual)
DESCRIPTION:Please Note: You must complete our online tutor orientation before you can attend this follow-up training. \nRSVP below. \nDate: Saturday\, December 5\, 2020\nTime: 11:00 am – 1:00 pm\nMeeting link: We will send you a confirmation email with the Zoom link for the training after you register.  \nPlease come prepared to participate in breakout groups and discussion. We ask that you have your webcam on for the entirety of the session and recommend using headphones if you have them. \nLoading…
URL:https://schoolonwheels.org/event/introductory-tutor-training-virtual12-5-2020/
CATEGORIES:Introductory Tutor Training
END:VEVENT
BEGIN:VEVENT
DTSTART;TZID=America/Los_Angeles:20201209T180000
DTEND;TZID=America/Los_Angeles:20201209T200000
DTSTAMP:20260425T100028
CREATED:20201119T223655Z
LAST-MODIFIED:20201119T223655Z
UID:20347-1607536800-1607544000@schoolonwheels.org
SUMMARY:Introductory Tutor Training (Virtual)
DESCRIPTION:Please Note: You must complete our online tutor orientation before you can attend this follow-up training. \nRSVP below. \nDate: Wednesday\, December 9\, 2020\nTime: 6:00 pm – 8:00 pm\nMeeting link: We will send you a confirmation email with the Zoom link for the training after you register.  \nPlease come prepared to participate in breakout groups and discussion. We ask that you have your webcam on for the entirety of the session and recommend using headphones if you have them. \nLoading…
URL:https://schoolonwheels.org/event/introductory-tutor-training-virtual-12-9-2020/
CATEGORIES:Introductory Tutor Training
END:VEVENT
BEGIN:VEVENT
DTSTART;TZID=America/Los_Angeles:20201212T120000
DTEND;TZID=America/Los_Angeles:20201212T140000
DTSTAMP:20260425T100028
CREATED:20201119T223934Z
LAST-MODIFIED:20201119T223934Z
UID:20349-1607774400-1607781600@schoolonwheels.org
SUMMARY:Introductory Tutor Training (Virtual)
DESCRIPTION:Please Note: You must complete our online tutor orientation before you can attend this follow-up training. \nRSVP below. \nDate: Saturday\, December 12\, 2020\nTime: 12:00 pm – 2:00 pm\nMeeting link: We will send you a confirmation email with the Zoom link for the training after you register.  \nPlease come prepared to participate in breakout groups and discussion. We ask that you have your webcam on for the entirety of the session and recommend using headphones if you have them. \nLoading…
URL:https://schoolonwheels.org/event/introductory-tutor-training-virtual-12-12-2020/
CATEGORIES:Introductory Tutor Training
END:VEVENT
BEGIN:VEVENT
DTSTART;TZID=America/Los_Angeles:20201214T180000
DTEND;TZID=America/Los_Angeles:20201214T200000
DTSTAMP:20260425T100028
CREATED:20201119T225342Z
LAST-MODIFIED:20201119T225342Z
UID:20352-1607968800-1607976000@schoolonwheels.org
SUMMARY:Introductory Tutor Training (Virtual)
DESCRIPTION:Please Note: You must complete our online tutor orientation before you can attend this follow-up training. \nRSVP below. \nDate: Monday\, December 14\, 2020\nTime: 6:00 pm – 8:00 pm\nMeeting link: We will send you a confirmation email with the Zoom link for the training after you register.  \nPlease come prepared to participate in breakout groups and discussion. We ask that you have your webcam on for the entirety of the session and recommend using headphones if you have them. \nLoading…
URL:https://schoolonwheels.org/event/introductory-tutor-training-virtual-12-14-2020/
CATEGORIES:Introductory Tutor Training
END:VEVENT
END:VCALENDAR